BEGIN:VCALENDAR
METHOD:PUBLISH
VERSION:2.0
CALSCALE:GREGORIAN
PRODID:-//NONSGML WPForms//NONSGML Sugar Calendar Feeds v3.10.0//EN
X-WR-CALNAME:Simplifier les rapports Power BI
X-WR-CALDESC:Liora
X-WR-TIMEZONE:Europe/Paris
BEGIN:VTIMEZONE
TZID:Europe/Paris
BEGIN:STANDARD
TZOFFSETFROM:+0200
TZOFFSETTO:+0100
DTSTART:20251026T010000
TZNAME:CET
END:STANDARD
END:VTIMEZONE
BEGIN:VTIMEZONE
TZID:Europe/Paris
BEGIN:STANDARD
TZOFFSETFROM:+0200
TZOFFSETTO:+0100
DTSTART:20251026T010000
TZNAME:CET
END:STANDARD
END:VTIMEZONE
BEGIN:VEVENT
SUMMARY:Simplifier les rapports Power BI
DESCRIPTION:
URL;VALUE=URI:https://liora.io/events-list/simplifier-les-rapports-power
 -bi
UID:urn:uuid:fdadf0f5-9382-4040-83e4-aacf2c512aee
STATUS:CONFIRMED
ORGANIZER:
DTSTAMP:20260419T131515Z
DTSTART;TZID=Europe/Paris:20260218T050000
DTEND;TZID=Europe/Paris:20260218T063000
END:VEVENT
END:VCALENDAR